BEGIN:VCALENDAR
VERSION:2.0
PRODID:-//Unia Szlaków &quot;Zachód - Wschód&quot; - ECPv4.8//NONSGML v1.0//EN
CALSCALE:GREGORIAN
METHOD:PUBLISH
X-WR-CALNAME:Unia Szlaków &quot;Zachód - Wschód&quot;
X-ORIGINAL-URL:http://zachod-wschod.pl
X-WR-CALDESC:Events for Unia Szlaków &quot;Zachód - Wschód&quot;
BEGIN:VEVENT
DTSTART;TZID=Europe/Warsaw:20191108T180000
DTEND;TZID=Europe/Warsaw:20191108T193000
DTSTAMP:20260419T133023
CREATED:20191018T190828Z
LAST-MODIFIED:20191108T155207Z
UID:7395-1573236000-1573241400@zachod-wschod.pl
SUMMARY:Zwiedzanie: Lublin w testamencie Zygmunta Augusta
DESCRIPTION:ZWIEDZANIE \nLublin\, 8 listopada 2019 r.\, godz. 18.00\,\nrozpoczęcie przed wejściem do Muzeum Lubelskiego na Zamku. \nKról Zygmunt August w swoim testamencie poświęcił Lublinowi niezwykle ważne miejsce. Zapraszamy na wspólne odkrywanie\, jak to się stało i jakie były tego przyczyny? To w ujęciu bezpośrednim\, a pośrednim: co Lublin ma wspólnego z arrasami wawelskimi? \nTrasa spaceru: Wzgórze zamkowe i okolice – Stare Miasto – gdzie nas nogi zaprowadzą … \nCzas zwiedzania: ok. 1\,5 godziny. \nOprowadzanie: przewodnik Janusz Kopaczek. \nOdbiorcy: oferta kierowana jest wyłącznie do osób pełnoletnich oraz niepełnoletnich z uprawnionymi opiekunami. \nRezerwacja: nie jest wymagana. \nBilety: 10 zł – osoby dorosłe\, 5 zł – dzieci i młodzież.\nProsimy o ich wcześniejszy zakup\, bezpośrednio przed zwiedzaniem. \n\nUwaga! Wcześniej szczególnie zainteresowanych zapraszamy na WARSZTATY \nLublin\, 8 listopada 2019 r.\, godz. 16.00\,\nrozpoczęcie w siedzibie Fundacji w Lubelskim Domu Technika NOT. \nInterdyscyplinarne warsztaty mają charakter bezpośrednio praktyczny. Służą zdobyciu wiedzy i umiejętności oraz uzyskaniu fachowej pomocy w przygotowaniu własnej oferty. Zajęcia mogą mieć charakter indywidualny i grupowy. \nW programie: wykład oraz wyżej wymienione zwiedzanie. \nProwadzenie: Janusz Kopaczek – przewodnik miejski i terenowy-trasowy\, pilot wycieczek\, przewodnik muzealny\, koordynator szlaków turystyczno-kulturowych w Europie\, inicjator Europejskiego Muzeum Sejmu Unii Lubelskiej „SEJMOGRAF 1569+”\, \nOdbiorcy: oferta kierowana jest do przewodników\, pilotów\, muzealników\, kulturoznawców\, pasjonatów itp. \nRezerwacja: obowiązuje z wyprzedzeniem (dokonujemy jej potwierdzenia). \nCena: 50 zł. \n  \nOrganizator: Fundacja „Via Jagiellonica”\,\nLublin\, ul. Skłodowskiej 3/15\n(www.viajagiellonica.eu > kontakt). \nPatronat: Unia Szlaków „Zachód – Wschód”. \nWięcej informacji i rezerwacja:\n(81) 441-11-18 lub kom. 693-272-040. \n[fot. Janusz Kopaczek] \n
URL:http://zachod-wschod.pl/event/zwiedzaniepiatkowe/
LOCATION:Lublin\, Lublin\, Polska
ATTACH;FMTTYPE=image/jpeg:http://zachod-wschod.pl/wp-content/uploads/2019/10/DSC07029.jpg
ORGANIZER;CN="Fundacja%20%22Via%20Jagiellonica%22":MAILTO:viajagiellonica@tlen.pl
END:VEVENT
END:VCALENDAR