BEGIN:VCALENDAR
VERSION:2.0
PRODID:-//Unia Szlaków &quot;Zachód - Wschód&quot; - ECPv4.8//NONSGML v1.0//EN
CALSCALE:GREGORIAN
METHOD:PUBLISH
X-WR-CALNAME:Unia Szlaków &quot;Zachód - Wschód&quot;
X-ORIGINAL-URL:http://zachod-wschod.pl
X-WR-CALDESC:Events for Unia Szlaków &quot;Zachód - Wschód&quot;
BEGIN:VEVENT
DTSTART;TZID=Europe/Warsaw:20250731T100000
DTEND;TZID=Europe/Warsaw:20250808T140000
DTSTAMP:20260420T094509
CREATED:20250730T112033Z
LAST-MODIFIED:20250730T112033Z
UID:9442-1753956000-1754661600@zachod-wschod.pl
SUMMARY:Dzienne zwiedzanie Lublina: "Szlakami kupców i uczestników sejmu unii"
DESCRIPTION:Na DZIENNE ZWIEDZANIE LUBLINA zapraszamy Państwa w czwartek 31 lipca i w piątek 1 sierpnia oraz od poniedziałku do piątku w dniach 4-8 sierpnia.\n\nDo wyboru są wówczas cztery programy realizowane w zależności od uzgodnień razem lub oddzielnie:godz. 10 – spotkanie przy pomniku Unii Lubelskiej\, w programie dawne Przedmieście Krakowskie\,godz. 11 – spotkanie przy Bramie Krakowskiej\, w programie Stare Miasto\,godz. 12 – spotkanie przy Bramie Grodzkiej\, w programie wzgórze zamkowe (uwaga! w razie zainteresowania do Muzeum Narodowego w Lublinie dodatkowo uzgodnione bilety: https://zamek-lublin.pl/wizyta/ceny-biletow/)\,godz. 13 – spotkanie przed Muzeum Narodowym na Zamku\, w programie Podzamcze i Przedmieście Czwartek.\n\nCENY usługi przewodnickiej dla MINIMUM 3 OSÓB na wybrany dzienny program trwający około 1 godziny:– dorośli – 30 zł / osoba (bilet normalny)\,– studenci\, emeryci i renciści – 25 zł / osoba (bilet ulgowy)\,– dzieci\, uczniowie – 20 zł / osoba (w ramach biletu rodzinnego).\n\nW przypadku łączenia poszczególnych godzin koszty biletów są sumowane.\n\nDLA GRUP ZORGANIZOWANYCH OFERTA SPECJALNA w cenie 300 – 400 zł.\n\nORGANIZATOR:Fundacja „Via Jagiellonica”\,Lublin\, ul. Skłodowskiej 3/15\,RODO itd. www.viajagiellonica.eu\n\nZAPRASZAMY!\n\nPatronat: Organizacja „Jagiellońskie Szlaki Europy”\n\n[fot. Janusz Kopaczek]\n
URL:http://zachod-wschod.pl/event/zwiedzanielublina-3-2/
LOCATION:Lublin\, Lublin\, Polska
ATTACH;FMTTYPE=image/jpeg:http://zachod-wschod.pl/wp-content/uploads/2025/07/1.-dzień-JK.jpg
ORGANIZER;CN="Fundacja%20%22Via%20Jagiellonica%22":MAILTO:viajagiellonica@tlen.pl
END:VEVENT
END:VCALENDAR