BEGIN:VCALENDAR
VERSION:2.0
PRODID:-//Unia Szlaków &quot;Zachód - Wschód&quot; - ECPv4.8//NONSGML v1.0//EN
CALSCALE:GREGORIAN
METHOD:PUBLISH
X-WR-CALNAME:Unia Szlaków &quot;Zachód - Wschód&quot;
X-ORIGINAL-URL:http://zachod-wschod.pl
X-WR-CALDESC:Events for Unia Szlaków &quot;Zachód - Wschód&quot;
BEGIN:VEVENT
DTSTART;TZID=Europe/Warsaw:20190927T160000
DTEND;TZID=Europe/Warsaw:20190927T193000
DTSTAMP:20260419T144807
CREATED:20190921T093539Z
LAST-MODIFIED:20190921T095347Z
UID:7261-1569600000-1569612600@zachod-wschod.pl
SUMMARY:Zwiedzanie i warsztaty: Czy Krzyż Unii Lubelskiej jest prawdziwy?
DESCRIPTION:ZWIEDZANIE \nLublin\, 27 września 2019 r.\, godz. 18.00\,\nrozpoczęcie przed wejściem do Muzeum Lubelskiego na Zamku. \nW klasztorze Dominikanów w Lublinie przechowywany jest Krzyż zwany Krzyżem Unii Lubelskiej. Według tradycji zaprzysiężono na niego unię polsko-litewską w dniu 1 lipca 1569 roku. Spróbujemy odpowiedzieć na pytanie: czy jest to tylko legendarne upamiętnienie\, czy naprawdę Krzyż unijny? \nTrasa spaceru: Wzgórze zamkowe – Stare Miasto – plac Litewski. \nCzas zwiedzania: ok. 1\,5 godziny. \nOprowadzanie: przewodnik Janusz Kopaczek. \nOdbiorcy: oferta kierowana jest wyłącznie do osób pełnoletnich oraz niepełnoletnich z uprawnionymi opiekunami. \nRezerwacja: nie jest wymagana. \nBilety: 10 zł – osoby dorosłe\, 5 zł – dzieci i młodzież.\nProsimy o ich wcześniejszy zakup\, bezpośrednio przed zwiedzaniem. \nWARSZTATY \nLublin\, 27 września 2019 r.\, godz. 16.00\,\nrozpoczęcie w siedzibie Fundacji w Lubelskim Domu Technika NOT. \nInterdyscyplinarne warsztaty mają charakter bezpośrednio praktyczny. Służą zdobyciu wiedzy i umiejętności oraz uzyskaniu fachowej pomocy w przygotowaniu własnej oferty. Zajęcia mogą mieć charakter indywidualny i grupowy. \nW programie: wykład oraz ww. zwiedzanie. \nProwadzenie: Janusz Kopaczek – przewodnik miejski i terenowy-trasowy\, pilot wycieczek\, przewodnik muzealny\, koordynator szlaków turystyczno-kulturowych w Europie\, inicjator Europejskiego Muzeum Sejmu Unii Lubelskiej „SEJMOGRAF 1569+”\, \nOdbiorcy: oferta kierowana jest do przewodników\, pilotów\, muzealników\, kulturoznawców\, pasjonatów itp. \nRezerwacja: obowiązuje z wyprzedzeniem (dokonujemy jej potwierdzenia). \nCena: 50 zł. \nOrganizator: Fundacja „Via Jagiellonica”\,\nLublin\, ul. Skłodowskiej 3/15\n(www.viajagiellonica.eu > kontakt). \nPatronat: Unia Szlaków „Zachód – Wschód”. \nWięcej informacji i rezerwacja:\n(81) 441-11-18 lub kom. 693-272-040. \n[fot. Janusz Kopaczek] \n
URL:http://zachod-wschod.pl/event/zwiedzanieiwarsztaty/
LOCATION:Lublin\, Lublin\, Polska
ATTACH;FMTTYPE=image/jpeg:http://zachod-wschod.pl/wp-content/uploads/2019/09/DSC07593.jpg
ORGANIZER;CN="Fundacja%20%22Via%20Jagiellonica%22":MAILTO:viajagiellonica@tlen.pl
END:VEVENT
END:VCALENDAR