BEGIN:VCALENDAR
VERSION:2.0
PRODID:-//Unia Szlaków &quot;Zachód - Wschód&quot; - ECPv4.8//NONSGML v1.0//EN
CALSCALE:GREGORIAN
METHOD:PUBLISH
X-WR-CALNAME:Unia Szlaków &quot;Zachód - Wschód&quot;
X-ORIGINAL-URL:http://zachod-wschod.pl
X-WR-CALDESC:Events for Unia Szlaków &quot;Zachód - Wschód&quot;
BEGIN:VEVENT
DTSTART;TZID=Europe/Warsaw:20191018T180000
DTEND;TZID=Europe/Warsaw:20191018T193000
DTSTAMP:20260419T150717
CREATED:20191015T135136Z
LAST-MODIFIED:20191015T140522Z
UID:7360-1571421600-1571427000@zachod-wschod.pl
SUMMARY:Zwiedzanie: Winnice w Lublinie?
DESCRIPTION:ZWIEDZANIE \nLublin\, 18 października 2019 r.\, godz. 18.00\,\nrozpoczęcie przed wejściem do Muzeum Lubelskiego na Zamku. \nW herbie Lublina występuję winorośl. Jak ona trafiła do oficjalnego znaku miasta nad Bystrzycą? Czy to możliwe\, że w okresie staropolskim w Lublinie uprawiano winnice? Zapraszamy na odkrywcze zwiedzanie\, którego wynik nie jest z góry przesądzony … \nTrasa spaceru: Wzgórze zamkowe – Stare Miasto – pl. Litewski. \nCzas zwiedzania: ok. 1\,5 godziny. \nOprowadzanie: przewodnik Janusz Kopaczek. \nOdbiorcy: oferta kierowana jest wyłącznie do osób pełnoletnich oraz niepełnoletnich z uprawnionymi opiekunami. \nRezerwacja: nie jest wymagana. \nBilety: 10 zł – osoby dorosłe\, 5 zł – dzieci i młodzież.\nProsimy o ich wcześniejszy zakup\, bezpośrednio przed zwiedzaniem. \nUwaga! Wcześniej zapraszamy na: \nWARSZTATY \nLublin\, 18 października 2019 r.\, godz. 16.00\,\nrozpoczęcie w siedzibie Fundacji w Lubelskim Domu Technika NOT. \nInterdyscyplinarne warsztaty mają charakter bezpośrednio praktyczny. Służą zdobyciu wiedzy i umiejętności oraz uzyskaniu fachowej pomocy w przygotowaniu własnej oferty. Zajęcia mogą mieć charakter indywidualny i grupowy. \nW programie: wykład oraz wyżej wymienione zwiedzanie. \nProwadzenie: Janusz Kopaczek – przewodnik miejski i terenowy-trasowy\, pilot wycieczek\, przewodnik muzealny\, koordynator szlaków turystyczno-kulturowych w Europie\, inicjator Europejskiego Muzeum Sejmu Unii Lubelskiej „SEJMOGRAF 1569+”\, \nOdbiorcy: oferta kierowana jest do przewodników\, pilotów\, muzealników\, kulturoznawców\, pasjonatów itp. \nRezerwacja: obowiązuje z wyprzedzeniem (dokonujemy jej potwierdzenia). \nCena: 50 zł. \nOrganizator: Fundacja „Via Jagiellonica”\,\nLublin\, ul. Skłodowskiej 3/15\n(www.viajagiellonica.eu > kontakt). \nPatronat: Unia Szlaków „Zachód – Wschód”. \nWięcej informacji i rezerwacja:\n(81) 441-11-18 lub kom. 693-272-040. \n[fot. Janusz Kopaczek] \n
URL:http://zachod-wschod.pl/event/zwiedzanieiwarsztaty-2-2/
LOCATION:Lublin\, Lublin\, Polska
ATTACH;FMTTYPE=image/jpeg:http://zachod-wschod.pl/wp-content/uploads/2019/10/DSC08674.jpg
ORGANIZER;CN="Fundacja%20%22Via%20Jagiellonica%22":MAILTO:viajagiellonica@tlen.pl
END:VEVENT
END:VCALENDAR