BEGIN:VCALENDAR
VERSION:2.0
PRODID:-//Unia Szlaków &quot;Zachód - Wschód&quot; - ECPv4.8//NONSGML v1.0//EN
CALSCALE:GREGORIAN
METHOD:PUBLISH
X-WR-CALNAME:Unia Szlaków &quot;Zachód - Wschód&quot;
X-ORIGINAL-URL:http://zachod-wschod.pl
X-WR-CALDESC:Events for Unia Szlaków &quot;Zachód - Wschód&quot;
BEGIN:VEVENT
DTSTART;TZID=Europe/Warsaw:20190913T180000
DTEND;TZID=Europe/Warsaw:20190913T193000
DTSTAMP:20260419T130448
CREATED:20190909T090857Z
LAST-MODIFIED:20190911T134801Z
UID:7191-1568397600-1568403000@zachod-wschod.pl
SUMMARY:Wywoływanie ducha Barbary Radziwiłłówny A.D. 1569 w Lublinie?
DESCRIPTION:Wśród dat oszukańczych seansów związanych z rzekomym wywoływaniem dla króla Zygmunta Augusta ducha Barbary Radziwiłłówny pojawia się data związana z unijnym Sejmem w Lublinie … \nTarasa spaceru: Zamek z placem po Pałacu Królewskim i okolice – Stare Miasto – plac Litewski. \nOprowadzanie: przewodnik Janusz Kopaczek\, znany m.in. z „Nocy Świątyń” na Jarmarkach Jagiellońskich oraz „Nocy Unii Lubelskiej” Unii Szlaków „Zachód – Wschód”. \nPiątek\, 13 września 2019 r.\, godz. 18. \nRozpoczęcie przed wejściem do Muzeum Lubelskiego na Zamku\,\nzakończenie na placu Litewskim. \nCzas zwiedzania: ok. 1\,5 godziny. \nProsimy o wcześniejszy zakup biletów bezpośrednio przed zwiedzaniem. \nKoszt:\n10 zł – osoby dorosłe\n5 zł – dzieci i młodzież \nOdbiorcy: oferta kierowana jest wyłącznie do osób pełnoletnich oraz niepełnoletnich z uprawnionymi opiekunami. \nOrganizator: Fundacja „Via Jagiellonica”\n(www.viajagiellonica.eu i http://zachod-wschod.pl/kontakt). \nPatronat: Unia Szlaków „Zachód – Wschód”. \nWięcej informacji i ewentualna rezerwacja:\n(81) 441-11-18 lub kom. 693-272-040. \n
URL:http://zachod-wschod.pl/event/tajemnice-sejmu-unii-lubelskiej-1569-slad-1-3-2/
LOCATION:Lublin\, Lublin\, Polska
ATTACH;FMTTYPE=image/jpeg:http://zachod-wschod.pl/wp-content/uploads/2019/09/DSC05091.jpg
ORGANIZER;CN="Fundacja%20%22Via%20Jagiellonica%22":MAILTO:viajagiellonica@tlen.pl
END:VEVENT
END:VCALENDAR