BEGIN:VCALENDAR
VERSION:2.0
PRODID:-//Unia Szlaków &quot;Zachód - Wschód&quot; - ECPv4.8//NONSGML v1.0//EN
CALSCALE:GREGORIAN
METHOD:PUBLISH
X-WR-CALNAME:Unia Szlaków &quot;Zachód - Wschód&quot;
X-ORIGINAL-URL:http://zachod-wschod.pl
X-WR-CALDESC:Events for Unia Szlaków &quot;Zachód - Wschód&quot;
BEGIN:VEVENT
DTSTART;TZID=Europe/Warsaw:20190812T190000
DTEND;TZID=Europe/Warsaw:20190814T210000
DTSTAMP:20260419T154605
CREATED:20190811T233234Z
LAST-MODIFIED:20190811T233545Z
UID:7158-1565636400-1565816400@zachod-wschod.pl
SUMMARY:Tajemnice kupców lubelskich - wstęp do Jarmarku Jagiellońskiego
DESCRIPTION:\nTajemnice kupców lubelskich – wstęp do Jarmarku Jagiellońskiego\n\n\n \n\n\nW programie:\n\n\n– Opowieść o początkach lubelskiego kupiectwa.\n\n\n– Dzieje Jarmarków Jagiellońskich.\n\n\n– Domy i składy kupieckie oraz miejsca handlu w Lublinie.\n\n\n+ Niespodzianka w środę!\n\n\n \n\n\nOprowadzanie: przewodnik Janusz Kopaczek\, \n\n\nznany m.in. z „Nocy Świątyń” na Jarmarkach Jagiellońskich oraz „Nocy Unii Lubelskiej” Unii Szlaków „Zachód – Wschód”.\n\n\n \n\n\nDo wyboru:\n\n\nPoniedziałek\, 12 sierpnia 2019 r.\, godz. 19\n\n\nWtorek\, 13 sierpnia 2019 r.\, godz. 19\n\n\nŚroda\, 14 sierpnia 2019 r.\, godz. 19\n\n\n \n\n\nRozpoczęcie:\n\n\nkażdorazowo przy Bramie Krakowskiej w Lublinie.\n\n\n \n\n\nCzas zwiedzania: 1 godzina\, \n\n\nuwaga! w środę dla chętnych dodatkowo 1 godzina.\n\n\n \n\n\nKoszt: \n\n\n10 zł – osoby dorosłe \n\n\n5 zł – dzieci i młodzież\n\n\nuwaga! niespodzianka w środę + 5 zł\n\n\n \n\n\nOdbiorcy: oferta kierowana jest wyłącznie do osób pełnoletnich oraz niepełnoletnich z uprawnionymi opiekunami.\n\n\n \n\n\nOrganizator: Fundacja „Via Jagiellonica”\n\n\n(www.viajagiellonica.eu).\n\n\nPatronat: Unia Szlaków „Zachód – Wschód”.\n\n\n \n\n\nWięcej informacji i ewentualna rezerwacja:\n\n\n(81) 441-11-18 lub kom. 693-272-040.\n\n
URL:http://zachod-wschod.pl/event/tajemnice-sejmu-unii-lubelskiej-1569-slad-1-2/
LOCATION:Lublin\, Lublin\, Polska
ATTACH;FMTTYPE=image/jpeg:http://zachod-wschod.pl/wp-content/uploads/2019/08/20294103_779638885548589_4739621361469279190_n.jpg
ORGANIZER;CN="Fundacja%20%22Via%20Jagiellonica%22":MAILTO:viajagiellonica@tlen.pl
END:VEVENT
END:VCALENDAR