BEGIN:VCALENDAR
VERSION:2.0
PRODID:-//Unia Szlaków &quot;Zachód - Wschód&quot; - ECPv4.8//NONSGML v1.0//EN
CALSCALE:GREGORIAN
METHOD:PUBLISH
X-WR-CALNAME:Unia Szlaków &quot;Zachód - Wschód&quot;
X-ORIGINAL-URL:http://zachod-wschod.pl
X-WR-CALDESC:Events for Unia Szlaków &quot;Zachód - Wschód&quot;
BEGIN:VEVENT
DTSTART;TZID=Europe/Warsaw:20200306T160000
DTEND;TZID=Europe/Warsaw:20200306T190000
DTSTAMP:20260421T093151
CREATED:20200107T134525Z
LAST-MODIFIED:20200305T134247Z
UID:7622-1583510400-1583521200@zachod-wschod.pl
SUMMARY:Spacery traktami lubelskimi
DESCRIPTION:Lublin\, 6 marca 2020 r. \ngodz. 16.00 – legenda o kupcu\, który skradł relikwie\nspotkanie przy Kościele Akademickim KUL\n(trasa na Stare Miasto)\ncena promocyjna dla wszystkich – 10 zł\n \ngodz. 17.30 – śladami uczestników unijnego sejmu\nspotkanie przed Bramą Krakowską\n(Stare Miasto\, Podzamcze i wzgórze zamkowe)\ncena promocyjna dla wszystkich – 10 zł \nOferta kierowana jest wyłącznie do osób pełnoletnich oraz niepełnoletnich z uprawnionymi opiekunami.\nUwaga! Wymagana jest wcześniejsza rezerwacja (do godziny 14) bezpośrednia lub telefoniczna.\nNabycie biletów możliwe jest również bezpośrednio przed zwiedzaniem. \nOprowadzanie: przewodnik Janusz Kopaczek. \nOrganizator: Fundacja „Via Jagiellonica”\,\nLublin\, ul. Skłodowskiej 3/15\,\nwięcej: www.viajagiellonica.eu > kontakt \nInformacja i rezerwacja:\n(81) 441-11-18 lub kom. 693-272-040. \nZapraszamy! \n[fot. Janusz Kopaczek] \n
URL:http://zachod-wschod.pl/event/spacerytraktamilubelskimi/
LOCATION:Lublin\, Lublin\, Polska
ATTACH;FMTTYPE=image/jpeg:http://zachod-wschod.pl/wp-content/uploads/2020/01/DSC08695.jpg
ORGANIZER;CN="Fundacja%20%22Via%20Jagiellonica%22":MAILTO:viajagiellonica@tlen.pl
END:VEVENT
END:VCALENDAR