BEGIN:VCALENDAR
VERSION:2.0
PRODID:-//Unia Szlaków &quot;Zachód - Wschód&quot; - ECPv4.8//NONSGML v1.0//EN
CALSCALE:GREGORIAN
METHOD:PUBLISH
X-WR-CALNAME:Unia Szlaków &quot;Zachód - Wschód&quot;
X-ORIGINAL-URL:http://zachod-wschod.pl
X-WR-CALDESC:Events for Unia Szlaków &quot;Zachód - Wschód&quot;
BEGIN:VEVENT
DTSTART;TZID=Europe/Warsaw:20200424T200000
DTEND;TZID=Europe/Warsaw:20200501T200000
DTSTAMP:20260419T113727
CREATED:20200323T090629Z
LAST-MODIFIED:20200420T185315Z
UID:7715-1587758400-1588363200@zachod-wschod.pl
SUMMARY:Spacery traktami lubelskimi w Europie - Wrocław (wirtualnie)
DESCRIPTION:\n\nSzanowni Państwo! W związku z tzw. koronawirusem zmieniliśmy tymczasowo formułę naszych spotkań. \nW najbliższy piątek 24 kwietnia 2020 r. zapraszamy na kolejny wspólny wirtualny spacer lubelskimi traktami w Europie. \nWystarczy o godz. 20 śledzić to wydarzenie na Facebooku:\nhttps://www.facebook.com/events/539012396817817/ . \nOferta kierowana jest wyłącznie do osób pełnoletnich oraz niepełnoletnich z uprawnionymi opiekunami. \nNiniejsza oferta ma charakter promocyjny i jest bezpłatna. \n\n\nOprowadzanie: przewodnik Janusz Kopaczek. \nOrganizator: Fundacja „Via Jagiellonica”\,\nLublin\, ul. Skłodowskiej 3/15\,\nwięcej: www.viajagiellonica.eu > kontakt \nInformacja: (81) 441-11-18 lub kom. 693-272-040. \nZapraszamy! \n[fot. Janusz Kopaczek] \n\n\n
URL:http://zachod-wschod.pl/event/spacerytraktamilubelskimi-2-2-2/
LOCATION:Europa\, Polska
ATTACH;FMTTYPE=image/jpeg:http://zachod-wschod.pl/wp-content/uploads/2020/01/DSC08695.jpg
ORGANIZER;CN="Fundacja%20%22Via%20Jagiellonica%22":MAILTO:viajagiellonica@tlen.pl
END:VEVENT
END:VCALENDAR