BEGIN:VCALENDAR
VERSION:2.0
PRODID:-//Unia Szlaków &quot;Zachód - Wschód&quot; - ECPv4.8//NONSGML v1.0//EN
CALSCALE:GREGORIAN
METHOD:PUBLISH
X-WR-CALNAME:Unia Szlaków &quot;Zachód - Wschód&quot;
X-ORIGINAL-URL:http://zachod-wschod.pl
X-WR-CALDESC:Events for Unia Szlaków &quot;Zachód - Wschód&quot;
BEGIN:VEVENT
DTSTART;TZID=Europe/Warsaw:20180912T000000
DTEND;TZID=Europe/Warsaw:20180912T143000
DTSTAMP:20260421T113014
CREATED:20180903T121908Z
LAST-MODIFIED:20190925T095125Z
UID:6514-1536710400-1536762600@zachod-wschod.pl
SUMMARY:"LUSTRACJA 1569+" (2/2018) : Jak zaprezentować historię Województwa Lubelskiego?!
DESCRIPTION:Lustracja Europejskiej Rzeczpospolitej Turystycznej „EUROPA 1569+” (2/2018)\nMieszkańcy i turyści mają głos! Na spotkanie otwarte zapraszamy decydentów i media …\n\nJAK ZAPREZENTOWAĆ HISTORIĘ WOJEWÓDZTWA LUBELSKIEGO?!\nLublin\, 12 września 2018 r.\, rozpoczęcie o godz. 12 przed wejściem głównym do Urzędu Marszałkowskiego. \n\nOtwarte zaproszenie na „Lustrację 1569+” oraz wnioski dotyczące prezentacji historii Województwa Lubelskiego\, kierowane do Sławomira Sosnowskiego\, marszałka Województwa Lubelskiego. \nWojewództwo Lubelskie nie prezentuje swojej historii w kontekście muzealno-przewodnickim!  \nJak najlepiej jako społeczność regionalna możemy zaprezentować historię Województwa Lubelskiego:\na) przygotowując się do 450. rocznicy Unii Lubelskiej\,\nb) współpracując z Miastem Lublinem na tzw. placu Po Pałacu Królewskim (miejsce Sejmu i zawarcia Unii Lubelskiej)\,\nc) tworząc muzealną prezentację historii i dziedzictwa Województwa Lubelskiego\,\nd) adekwatnie uwzględniając w swej polityce granice historycznych regionów\,\ne) poprzez projekt sieci atrakcji turystycznych na granicy polsko-litewsko-pruskiej\,\nf) określając terytorialne standardy utrzymania i rozbudowy sieci muzealnej? \nZdjęcie niezrozumiałej „blokady” na muzealno-przewodnicką prezentację historii Województwa Lubelskiego będzie również przedmiotem I Sejmiku Województwa Lubelskiego\, społeczności Europejska Rzeczpospolita Turystyczna „EUROPA 1569+”\, zaplanowanego wstępnie na grudzień bieżącego roku.   \nOrganizatorzy:\nUnia Szlaków „Zachód – Wschód”\nspołeczność Europejska Rzeczpospolita Turystyczna „EUROPA 1569+” \n
URL:http://zachod-wschod.pl/event/sdsd-3-2-2-2/
LOCATION:Lublin\, Lublin\, Polska
ATTACH;FMTTYPE=image/jpeg:http://zachod-wschod.pl/wp-content/uploads/2018/09/mapa_regionu.jpg
END:VEVENT
END:VCALENDAR