BEGIN:VCALENDAR
VERSION:2.0
PRODID:-//Unia Szlaków &quot;Zachód - Wschód&quot; - ECPv4.8//NONSGML v1.0//EN
CALSCALE:GREGORIAN
METHOD:PUBLISH
X-WR-CALNAME:Unia Szlaków &quot;Zachód - Wschód&quot;
X-ORIGINAL-URL:http://zachod-wschod.pl
X-WR-CALDESC:Events for Unia Szlaków &quot;Zachód - Wschód&quot;
BEGIN:VEVENT
DTSTART;TZID=Europe/Warsaw:20240902T080000
DTEND;TZID=Europe/Warsaw:20241231T160000
DTSTAMP:20260420T094507
CREATED:20240819T080035Z
LAST-MODIFIED:20240827T125504Z
UID:9318-1725264000-1735660800@zachod-wschod.pl
SUMMARY:Lublin znany i nieznany ... na szlakach Europy
DESCRIPTION:Mamy dla Państwa zupełnie NOWĄ OFERTĘ\, adresowaną do Polaków z kraju i ich Gości z zagranicy oraz Polaków przyjeżdżąjących z nimi wspólnie z zagranicy. Lublin\, w którym przez wieki – a zwłaszcza w złotym okresie jagiellońskim – przecinały się ważne szlaki Europy\, szczególnie zasługuje na wspólne odwiedziny. Zapraszamy więc na spotkanie z przewodnikiem specjalizującym się w tematyce międzynarodowej. Pokaże on Państwu miejsca dobrze znane i niemal nieznane (lubimy wprowadzać zwiedzającym tam\, gdzie wielu turystów nie wchodzi)\, jak również zaprezentuje związki naszego kupieckiego Miasta i sejmowo-unijnego Zamku z innymi ośrodkami w Europie (do wyboru m.in. Madryt\, Bari\, Neapol\, Rzym\, Wenecja\, Wiedeń\, Londyn\, Paryż\, Berlin\, Lubeka\, Kopenhaga\, Sztokholm\, Królewiec\, Ryga\, Moskwa\, Smoleńsk\, Mińsk\, Brześć\, Bakczysaraj\, Kijów\, Stambuł\, Jassy\, Lwów\, Alba Julia\, Budapeszt i inne). Zadaniem naszego przewodnika jest obsługa w języku polskim\, natomiast tłumaczenie na język zagranicznych Gości pozostawiamy Państwu.\n\nCENA usług przewodnickich w ww. ofercie grupowej:200 zł do 2 godzin\,400 zł do 4 godzin itd.\n\nWcześniejsza REZERWACJA jest niezbędna. Jej potwierdzenie przez organizatora następuje po uzgodnieniu godziny i miejsca spotkania. Można jej dokonywać na numer: (81) 441-11-18 lub kom. 693-272-040.\n\nORGANIZATOR:Fundacja „Via Jagiellonica”\,Lublin\, ul. Skłodowskiej 3/15\,RODO itd. www.viajagiellonica.eu\n\nZAPRASZAMY!\n\nPatronat:– Organizacja „Szlaki Unii Jagiellońskiej”– Unia Szlaków „Zachód – Wschód”\n\n[fot. Janusz Kopaczek]\n
URL:http://zachod-wschod.pl/event/polakiobcokrajowiec/
LOCATION:Lublin\, Lublin\, Polska
ATTACH;FMTTYPE=image/jpeg:http://zachod-wschod.pl/wp-content/uploads/2024/08/449684794_985195713612779_4826838196042838865_n-Kopia-Kopia-1.jpg
ORGANIZER;CN="Fundacja%20%22Via%20Jagiellonica%22":MAILTO:viajagiellonica@tlen.pl
END:VEVENT
END:VCALENDAR