BEGIN:VCALENDAR
VERSION:2.0
PRODID:-//Unia Szlaków &quot;Zachód - Wschód&quot; - ECPv4.8//NONSGML v1.0//EN
CALSCALE:GREGORIAN
METHOD:PUBLISH
X-WR-CALNAME:Unia Szlaków &quot;Zachód - Wschód&quot;
X-ORIGINAL-URL:http://zachod-wschod.pl
X-WR-CALDESC:Events for Unia Szlaków &quot;Zachód - Wschód&quot;
BEGIN:VEVENT
DTSTART;TZID=UTC+0:20191114T183000
DTEND;TZID=UTC+0:20191115T213000
DTSTAMP:20260419T133325
CREATED:20171017T104721Z
LAST-MODIFIED:20191109T212922Z
UID:5887-1573756200-1573853400@zachod-wschod.pl
SUMMARY:"Wszystkich Świętych" i "Zaduszki" Sejmu Unii Lubelskiej
DESCRIPTION: \n \n \n
URL:http://zachod-wschod.pl/event/budzimy/
LOCATION:Europa\, Polska
ATTACH;FMTTYPE=image/jpeg:http://zachod-wschod.pl/wp-content/uploads/2017/10/Janusz-listopad-v3-1.jpg
END:VEVENT
END:VCALENDAR